Package: decontX Version: 1.5.0 Command: /Library/Frameworks/R.framework/Resources/bin/R CMD check --install=check:decontX.install-out.txt --library=/Library/Frameworks/R.framework/Resources/library --no-vignettes --timings decontX_1.5.0.tar.gz StartedAt: 2025-02-05 19:58:14 -0500 (Wed, 05 Feb 2025) EndedAt: 2025-02-05 20:05:03 -0500 (Wed, 05 Feb 2025) EllapsedTime: 408.2 seconds RetCode: 0 Status: OK CheckDir: decontX.Rcheck Warnings: 0