Package: decontX Version: 1.5.0 Command: /Library/Frameworks/R.framework/Resources/bin/R CMD check --install=check:decontX.install-out.txt --library=/Library/Frameworks/R.framework/Resources/library --no-vignettes --timings decontX_1.5.0.tar.gz StartedAt: 2025-02-10 18:52:31 -0500 (Mon, 10 Feb 2025) EndedAt: 2025-02-10 18:54:59 -0500 (Mon, 10 Feb 2025) EllapsedTime: 147.7 seconds RetCode: 0 Status: WARNINGS CheckDir: decontX.Rcheck Warnings: 1