Package: decontX Version: 1.5.0 Command: /Library/Frameworks/R.framework/Resources/bin/R CMD build --keep-empty-dirs --no-resave-data decontX StartedAt: 2025-02-12 16:05:20 -0500 (Wed, 12 Feb 2025) EndedAt: 2025-02-12 16:08:15 -0500 (Wed, 12 Feb 2025) EllapsedTime: 174.9 seconds RetCode: 0 Status: OK PackageFile: decontX_1.5.0.tar.gz PackageFileSize: 1.992 MiB