Package: decontX Version: 1.7.0 Command: rm -rf decontX.buildbin-libdir && mkdir decontX.buildbin-libdir && /Users/biocbuild/BBS/utils/build-universal.sh decontX_1.7.0.tar.gz /Library/Frameworks/R.framework/Resources/bin/R decontX.buildbin-libdir StartedAt: 2025-09-29 22:32:54 -0400 (Mon, 29 Sep 2025) EndedAt: 2025-09-29 22:33:47 -0400 (Mon, 29 Sep 2025) EllapsedTime: 53.1 seconds RetCode: 0 Status: OK PackageFile: decontX_1.7.0.tgz PackageFileSize: 2.698 MiB