Package: decompTumor2Sig Version: 2.25.1 Command: chmod a+r decompTumor2Sig -R && F:\biocbuild\bbs-3.22-bioc\R\bin\R.exe CMD build --keep-empty-dirs --no-resave-data decompTumor2Sig StartedAt: 2025-08-14 19:32:25 -0400 (Thu, 14 Aug 2025) EndedAt: 2025-08-14 19:41:01 -0400 (Thu, 14 Aug 2025) EllapsedTime: 515.7 seconds RetCode: 0 Status: OK PackageFile: decompTumor2Sig_2.25.1.tar.gz PackageFileSize: 2.387 MiB