Package: decompTumor2Sig Version: 2.25.1 Command: rm -rf decompTumor2Sig.buildbin-libdir && mkdir decompTumor2Sig.buildbin-libdir && F:\biocbuild\bbs-3.22-bioc\R\bin\R.exe CMD INSTALL --build --library=decompTumor2Sig.buildbin-libdir decompTumor2Sig_2.25.1.tar.gz StartedAt: 2025-08-15 10:06:19 -0400 (Fri, 15 Aug 2025) EndedAt: 2025-08-15 10:09:15 -0400 (Fri, 15 Aug 2025) EllapsedTime: 176.0 seconds RetCode: 0 Status: OK PackageFile: decompTumor2Sig_2.25.1.zip PackageFileSize: 2.435 MiB