Package: decompTumor2Sig Version: 2.23.0 Command: E:\biocbuild\bbs-3.21-bioc\R\bin\R.exe CMD INSTALL decompTumor2Sig StartedAt: 2025-02-03 16:59:17 -0500 (Mon, 03 Feb 2025) EndedAt: 2025-02-03 17:00:26 -0500 (Mon, 03 Feb 2025) EllapsedTime: 68.6 seconds RetCode: 0 Status: OK