Package: decompTumor2Sig Version: 2.23.0 Command: chmod a+r decompTumor2Sig -R && E:\biocbuild\bbs-3.21-bioc\R\bin\R.exe CMD build --keep-empty-dirs --no-resave-data decompTumor2Sig StartedAt: 2025-02-03 18:25:27 -0500 (Mon, 03 Feb 2025) EndedAt: 2025-02-03 18:33:58 -0500 (Mon, 03 Feb 2025) EllapsedTime: 510.9 seconds RetCode: 0 Status: OK PackageFile: decompTumor2Sig_2.23.0.tar.gz PackageFileSize: 2.387 MiB