Package: decompTumor2Sig Version: 2.23.0 Command: /Library/Frameworks/R.framework/Resources/bin/R CMD check --install=check:decompTumor2Sig.install-out.txt --library=/Library/Frameworks/R.framework/Resources/library --no-vignettes --timings decompTumor2Sig_2.23.0.tar.gz StartedAt: 2025-02-03 20:00:28 -0500 (Mon, 03 Feb 2025) EndedAt: 2025-02-03 20:07:41 -0500 (Mon, 03 Feb 2025) EllapsedTime: 433.5 seconds RetCode: 0 Status: OK CheckDir: decompTumor2Sig.Rcheck Warnings: 0