Package: decompTumor2Sig Version: 2.23.0 Command: /Library/Frameworks/R.framework/Resources/bin/R CMD build --keep-empty-dirs --no-resave-data decompTumor2Sig StartedAt: 2025-02-03 16:30:51 -0500 (Mon, 03 Feb 2025) EndedAt: 2025-02-03 16:35:32 -0500 (Mon, 03 Feb 2025) EllapsedTime: 281.3 seconds RetCode: 0 Status: OK PackageFile: decompTumor2Sig_2.23.0.tar.gz PackageFileSize: 2.723 MiB