Package: decompTumor2Sig Version: 2.23.0 Command: rm -rf decompTumor2Sig.buildbin-libdir && mkdir decompTumor2Sig.buildbin-libdir && /Users/biocbuild/BBS/utils/build-universal.sh decompTumor2Sig_2.23.0.tar.gz /Library/Frameworks/R.framework/Resources/bin/R decompTumor2Sig.buildbin-libdir StartedAt: 2025-02-04 00:30:27 -0500 (Tue, 04 Feb 2025) EndedAt: 2025-02-04 00:31:26 -0500 (Tue, 04 Feb 2025) EllapsedTime: 59.1 seconds RetCode: 0 Status: OK PackageFile: decompTumor2Sig_2.23.0.tgz PackageFileSize: 2.762 MiB