Package: decompTumor2Sig Version: 2.25.0 Maintainer: Rosario M. Piro MaintainerEmail: rmpiro at gmail.com git_url: https://git.bioconductor.org/packages/decompTumor2Sig git_branch: devel git_last_commit: 90f0ed2 git_last_commit_date: 2025-04-15 11:39:37 -0400 (Tue, 15 Apr 2025)