Package: debrowser Version: 1.37.0 Command: rm -rf debrowser.buildbin-libdir && mkdir debrowser.buildbin-libdir && F:\biocbuild\bbs-3.22-bioc\R\bin\R.exe CMD INSTALL --build --library=debrowser.buildbin-libdir debrowser_1.37.0.tar.gz StartedAt: 2025-08-15 10:06:16 -0400 (Fri, 15 Aug 2025) EndedAt: 2025-08-15 10:08:46 -0400 (Fri, 15 Aug 2025) EllapsedTime: 149.9 seconds RetCode: 0 Status: OK PackageFile: debrowser_1.37.0.zip PackageFileSize: 18.64 MiB