Package: debrowser Version: 1.35.0 Command: rm -rf debrowser.buildbin-libdir && mkdir debrowser.buildbin-libdir && /Users/biocbuild/BBS/utils/build-universal.sh debrowser_1.35.0.tar.gz /Library/Frameworks/R.framework/Resources/bin/R debrowser.buildbin-libdir StartedAt: 2025-02-04 00:30:27 -0500 (Tue, 04 Feb 2025) EndedAt: 2025-02-04 00:31:35 -0500 (Tue, 04 Feb 2025) EllapsedTime: 68.3 seconds RetCode: 0 Status: OK PackageFile: debrowser_1.35.0.tgz PackageFileSize: 18.64 MiB