Package: debrowser Version: 1.35.0 Command: /home/biocbuild/R/R/bin/R CMD INSTALL debrowser StartedAt: 2025-01-29 20:26:43 -0000 (Wed, 29 Jan 2025) EndedAt: 2025-01-29 20:27:46 -0000 (Wed, 29 Jan 2025) EllapsedTime: 63.4 seconds RetCode: 0 Status: OK