Package: debrowser Version: 1.37.0 Command: /Library/Frameworks/R.framework/Resources/bin/R CMD INSTALL debrowser StartedAt: 2025-05-02 15:25:07 -0400 (Fri, 02 May 2025) EndedAt: 2025-05-02 15:25:27 -0400 (Fri, 02 May 2025) EllapsedTime: 19.9 seconds RetCode: 0 Status: OK