Package: debCAM Version: 1.27.0 Command: /home/biocbuild/bbs-3.22-bioc/R/bin/R CMD build --keep-empty-dirs --no-resave-data --md5 debCAM StartedAt: 2025-09-30 17:09:59 -0400 (Tue, 30 Sep 2025) EndedAt: 2025-09-30 17:10:00 -0400 (Tue, 30 Sep 2025) EllapsedTime: 1.0 seconds RetCode: 1 Status: ERROR PackageFile: None PackageFileSize: NA