Package: debCAM Version: 1.25.0 Command: /home/biocbuild/bbs-3.21-bioc/R/bin/R CMD build --keep-empty-dirs --no-resave-data debCAM StartedAt: 2025-02-03 17:03:13 -0500 (Mon, 03 Feb 2025) EndedAt: 2025-02-03 17:08:50 -0500 (Mon, 03 Feb 2025) EllapsedTime: 337.4 seconds RetCode: 1 Status: ERROR PackageFile: None PackageFileSize: NA