Package: debCAM Version: 1.25.0 Command: /Library/Frameworks/R.framework/Resources/bin/R CMD check --install=check:debCAM.install-out.txt --library=/Library/Frameworks/R.framework/Resources/library --no-vignettes --timings debCAM_1.25.0.tar.gz StartedAt: 2025-02-03 20:00:02 -0500 (Mon, 03 Feb 2025) EndedAt: 2025-02-03 20:03:32 -0500 (Mon, 03 Feb 2025) EllapsedTime: 210.0 seconds RetCode: 0 Status: OK CheckDir: debCAM.Rcheck Warnings: 0