Package: dearseq Version: 1.21.0 Command: /Library/Frameworks/R.framework/Resources/bin/R CMD check --install=check:dearseq.install-out.txt --library=/Library/Frameworks/R.framework/Resources/library --no-vignettes --timings dearseq_1.21.0.tar.gz StartedAt: 2025-05-06 20:05:48 -0400 (Tue, 06 May 2025) EndedAt: 2025-05-06 20:07:23 -0400 (Tue, 06 May 2025) EllapsedTime: 94.5 seconds RetCode: 0 Status: OK CheckDir: dearseq.Rcheck Warnings: 0