Package: dearseq Version: 1.21.0 Command: /Library/Frameworks/R.framework/Resources/bin/R CMD build --keep-empty-dirs --no-resave-data dearseq StartedAt: 2025-05-06 16:29:27 -0400 (Tue, 06 May 2025) EndedAt: 2025-05-06 16:38:24 -0400 (Tue, 06 May 2025) EllapsedTime: 537.9 seconds RetCode: 0 Status: OK PackageFile: dearseq_1.21.0.tar.gz PackageFileSize: 764.2 KiB