Package: dearseq Version: 1.21.0 Command: /Library/Frameworks/R.framework/Resources/bin/R CMD INSTALL dearseq StartedAt: 2025-05-07 15:05:54 -0400 (Wed, 07 May 2025) EndedAt: 2025-05-07 15:06:00 -0400 (Wed, 07 May 2025) EllapsedTime: 6.1 seconds RetCode: 0 Status: OK