Package: dearseq Version: 1.21.0 Command: rm -rf dearseq.buildbin-libdir && mkdir dearseq.buildbin-libdir && /Users/biocbuild/BBS/utils/build-universal.sh dearseq_1.21.0.tar.gz /Library/Frameworks/R.framework/Resources/bin/R dearseq.buildbin-libdir StartedAt: 2025-05-08 23:10:28 -0400 (Thu, 08 May 2025) EndedAt: 2025-05-08 23:10:34 -0400 (Thu, 08 May 2025) EllapsedTime: 5.1 seconds RetCode: 0 Status: OK PackageFile: dearseq_1.21.0.tgz PackageFileSize: 899.2 KiB