Package: ddPCRclust Version: 1.29.0 Command: /home/biocbuild/R/R/bin/R CMD build --keep-empty-dirs --no-resave-data ddPCRclust StartedAt: 2025-10-20 23:11:00 -0000 (Mon, 20 Oct 2025) EndedAt: 2025-10-20 23:11:43 -0000 (Mon, 20 Oct 2025) EllapsedTime: 43.0 seconds RetCode: 0 Status: OK PackageFile: ddPCRclust_1.29.0.tar.gz PackageFileSize: 1.181 MiB