Package: ddCt Version: 1.65.0 Command: /home/biocbuild/bbs-3.22-bioc/R/bin/R CMD INSTALL ddCt StartedAt: 2025-10-06 15:49:26 -0400 (Mon, 06 Oct 2025) EndedAt: 2025-10-06 15:49:32 -0400 (Mon, 06 Oct 2025) EllapsedTime: 5.5 seconds RetCode: 0 Status: OK