Package: ddCt Version: 1.65.0 Command: /home/biocbuild/bbs-3.22-bioc/R/bin/R CMD build --keep-empty-dirs --no-resave-data --md5 ddCt StartedAt: 2025-10-06 17:10:32 -0400 (Mon, 06 Oct 2025) EndedAt: 2025-10-06 17:10:47 -0400 (Mon, 06 Oct 2025) EllapsedTime: 15.0 seconds RetCode: 0 Status: OK PackageFile: ddCt_1.65.0.tar.gz PackageFileSize: 786.9 KiB