Package: ddCt Version: 1.65.0 Command: rm -rf ddCt.buildbin-libdir && mkdir ddCt.buildbin-libdir && /Users/biocbuild/BBS/utils/build-universal.sh ddCt_1.65.0.tar.gz /Library/Frameworks/R.framework/Resources/bin/R ddCt.buildbin-libdir StartedAt: 2025-05-27 00:57:44 -0400 (Tue, 27 May 2025) EndedAt: 2025-05-27 00:57:55 -0400 (Tue, 27 May 2025) EllapsedTime: 10.5 seconds RetCode: 0 Status: OK PackageFile: ddCt_1.65.0.tgz PackageFileSize: 1.011 MiB