Package: dcanr Version: 1.23.0 Command: E:\biocbuild\bbs-3.21-bioc\R\bin\R.exe CMD INSTALL dcanr StartedAt: 2025-02-18 15:33:19 -0500 (Tue, 18 Feb 2025) EndedAt: 2025-02-18 15:33:36 -0500 (Tue, 18 Feb 2025) EllapsedTime: 16.4 seconds RetCode: 0 Status: OK