Package: dcanr Version: 1.23.0 Command: /home/biocbuild/bbs-3.21-bioc/R/bin/R CMD build --keep-empty-dirs --no-resave-data dcanr StartedAt: 2025-02-16 16:52:51 -0500 (Sun, 16 Feb 2025) EndedAt: 2025-02-16 16:53:38 -0500 (Sun, 16 Feb 2025) EllapsedTime: 47.1 seconds RetCode: 0 Status: OK PackageFile: dcanr_1.23.0.tar.gz PackageFileSize: 1.709 MiB