Package: dcGSA Version: 1.37.0 Maintainer: Jiehuan sun MaintainerEmail: jiehuan.sun at yale.edu git_url: https://git.bioconductor.org/packages/dcGSA git_branch: devel git_last_commit: bdc283c git_last_commit_date: 2025-04-15 10:56:58 -0400 (Tue, 15 Apr 2025)