Package: dar Version: 1.5.0 Command: /home/biocbuild/bbs-3.22-bioc/R/bin/R CMD INSTALL dar StartedAt: 2025-10-08 16:16:46 -0400 (Wed, 08 Oct 2025) EndedAt: 2025-10-08 16:17:18 -0400 (Wed, 08 Oct 2025) EllapsedTime: 31.5 seconds RetCode: 0 Status: OK