Package: dar Version: 1.5.0 Command: /home/biocbuild/bbs-3.22-bioc/R/bin/R CMD build --keep-empty-dirs --no-resave-data --md5 dar StartedAt: 2025-10-08 17:33:25 -0400 (Wed, 08 Oct 2025) EndedAt: 2025-10-08 17:37:56 -0400 (Wed, 08 Oct 2025) EllapsedTime: 271.2 seconds RetCode: 0 Status: OK PackageFile: dar_1.5.0.tar.gz PackageFileSize: 3.451 MiB