Package: dandelionR Version: 1.3.0 Command: /home/biocbuild/bbs-3.23-bioc/R/bin/R CMD INSTALL dandelionR StartedAt: 2025-11-11 15:59:17 -0500 (Tue, 11 Nov 2025) EndedAt: 2025-11-11 15:59:56 -0500 (Tue, 11 Nov 2025) EllapsedTime: 39.0 seconds RetCode: 0 Status: OK