Package: dandelionR Version: 1.3.0 Command: /home/biocbuild/bbs-3.23-bioc/R/bin/R CMD build --keep-empty-dirs --no-resave-data dandelionR StartedAt: 2025-11-11 17:11:14 -0500 (Tue, 11 Nov 2025) EndedAt: 2025-11-11 17:14:00 -0500 (Tue, 11 Nov 2025) EllapsedTime: 166.2 seconds RetCode: 0 Status: OK PackageFile: dandelionR_1.3.0.tar.gz PackageFileSize: 11.44 MiB