Package: dandelionR Version: 1.2.0 Command: /Library/Frameworks/R.framework/Resources/bin/R CMD INSTALL dandelionR StartedAt: 2025-10-29 22:29:15 -0400 (Wed, 29 Oct 2025) EndedAt: 2025-10-29 22:30:08 -0400 (Wed, 29 Oct 2025) EllapsedTime: 53.4 seconds RetCode: 0 Status: OK