Package: dandelionR Version: 1.2.0 Command: /Library/Frameworks/R.framework/Resources/bin/R CMD build --keep-empty-dirs --no-resave-data dandelionR StartedAt: 2025-10-29 23:20:49 -0400 (Wed, 29 Oct 2025) EndedAt: 2025-10-29 23:24:16 -0400 (Wed, 29 Oct 2025) EllapsedTime: 207.0 seconds RetCode: 0 Status: OK PackageFile: dandelionR_1.2.0.tar.gz PackageFileSize: 12.4 MiB