Package: dandelionR Version: 1.2.0 Command: rm -rf dandelionR.buildbin-libdir && mkdir dandelionR.buildbin-libdir && /Users/biocbuild/BBS/utils/build-universal.sh dandelionR_1.2.0.tar.gz /Library/Frameworks/R.framework/Resources/bin/R dandelionR.buildbin-libdir StartedAt: 2025-10-30 08:12:07 -0400 (Thu, 30 Oct 2025) EndedAt: 2025-10-30 08:13:03 -0400 (Thu, 30 Oct 2025) EllapsedTime: 56.2 seconds RetCode: 0 Status: OK PackageFile: dandelionR_1.2.0.tgz PackageFileSize: 12.51 MiB