Package: dandelionR Version: 1.1.5 Command: /Library/Frameworks/R.framework/Resources/bin/R CMD INSTALL dandelionR StartedAt: 2025-10-19 15:29:36 -0400 (Sun, 19 Oct 2025) EndedAt: 2025-10-19 15:29:56 -0400 (Sun, 19 Oct 2025) EllapsedTime: 20.6 seconds RetCode: 0 Status: OK