Package: dandelionR Version: 1.1.5 Command: /Library/Frameworks/R.framework/Resources/bin/R CMD build --keep-empty-dirs --no-resave-data dandelionR StartedAt: 2025-10-19 16:06:56 -0400 (Sun, 19 Oct 2025) EndedAt: 2025-10-19 16:08:14 -0400 (Sun, 19 Oct 2025) EllapsedTime: 77.9 seconds RetCode: 0 Status: OK PackageFile: dandelionR_1.1.5.tar.gz PackageFileSize: 12.46 MiB