Package: dandelionR Version: 1.1.5 Command: rm -rf dandelionR.buildbin-libdir && mkdir dandelionR.buildbin-libdir && /Users/biocbuild/BBS/utils/build-universal.sh dandelionR_1.1.5.tar.gz /Library/Frameworks/R.framework/Resources/bin/R dandelionR.buildbin-libdir StartedAt: 2025-10-17 23:05:11 -0400 (Fri, 17 Oct 2025) EndedAt: 2025-10-17 23:05:30 -0400 (Fri, 17 Oct 2025) EllapsedTime: 18.4 seconds RetCode: 0 Status: OK PackageFile: dandelionR_1.1.5.tgz PackageFileSize: 12.58 MiB