Package: dagLogo Version: 1.47.0 Command: /home/biocbuild/bbs-3.22-bioc/R/bin/R CMD INSTALL dagLogo StartedAt: 2025-10-08 16:10:27 -0400 (Wed, 08 Oct 2025) EndedAt: 2025-10-08 16:11:26 -0400 (Wed, 08 Oct 2025) EllapsedTime: 58.4 seconds RetCode: 0 Status: OK