Package: dada2 Version: 1.35.0 Command: /Library/Frameworks/R.framework/Resources/bin/R CMD INSTALL dada2 StartedAt: 2025-02-02 15:17:19 -0500 (Sun, 02 Feb 2025) EndedAt: 2025-02-02 15:18:57 -0500 (Sun, 02 Feb 2025) EllapsedTime: 98.2 seconds RetCode: 0 Status: OK