Package: dada2 Version: 1.35.0 Command: /Library/Frameworks/R.framework/Resources/bin/R CMD build --keep-empty-dirs --no-resave-data dada2 StartedAt: 2025-02-05 16:24:30 -0500 (Wed, 05 Feb 2025) EndedAt: 2025-02-05 16:26:20 -0500 (Wed, 05 Feb 2025) EllapsedTime: 109.7 seconds RetCode: 0 Status: OK PackageFile: dada2_1.35.0.tar.gz PackageFileSize: 2.766 MiB