Package: dada2 Version: 1.35.0 Command: rm -rf dada2.buildbin-libdir && mkdir dada2.buildbin-libdir && /Users/biocbuild/BBS/utils/build-universal.sh dada2_1.35.0.tar.gz /Library/Frameworks/R.framework/Resources/bin/R dada2.buildbin-libdir StartedAt: 2025-02-03 00:19:25 -0500 (Mon, 03 Feb 2025) EndedAt: 2025-02-03 00:21:09 -0500 (Mon, 03 Feb 2025) EllapsedTime: 103.7 seconds RetCode: 0 Status: OK PackageFile: dada2_1.35.0.tgz PackageFileSize: 3.365 MiB