Package: dada2 Version: 1.35.0 Command: /home/biocbuild/R/R/bin/R CMD build --keep-empty-dirs --no-resave-data dada2 StartedAt: 2025-01-28 22:15:29 -0000 (Tue, 28 Jan 2025) EndedAt: 2025-01-28 22:18:10 -0000 (Tue, 28 Jan 2025) EllapsedTime: 161.1 seconds RetCode: 1 Status: ERROR PackageFile: None PackageFileSize: NA