Package: dada2 Version: 1.39.0 Maintainer: Benjamin Callahan MaintainerEmail: benjamin.j.callahan at gmail.com git_url: https://git.bioconductor.org/packages/dada2 git_branch: devel git_last_commit: 29f93c2 git_last_commit_date: 2025-10-29 10:30:17 -0500 (Wed, 29 Oct 2025)