Package: dStruct Version: 1.15.0 Command: rm -rf dStruct.buildbin-libdir && mkdir dStruct.buildbin-libdir && F:\biocbuild\bbs-3.22-bioc\R\bin\R.exe CMD INSTALL --build --library=dStruct.buildbin-libdir dStruct_1.15.0.tar.gz StartedAt: 2025-08-15 10:11:43 -0400 (Fri, 15 Aug 2025) EndedAt: 2025-08-15 10:11:54 -0400 (Fri, 15 Aug 2025) EllapsedTime: 10.9 seconds RetCode: 0 Status: OK PackageFile: dStruct_1.15.0.zip PackageFileSize: 602 KiB