Package: dStruct Version: 1.13.0 Command: rm -rf dStruct.buildbin-libdir && mkdir dStruct.buildbin-libdir && /Users/biocbuild/BBS/utils/build-universal.sh dStruct_1.13.0.tar.gz /Library/Frameworks/R.framework/Resources/bin/R dStruct.buildbin-libdir StartedAt: 2025-01-23 21:05:55 -0500 (Thu, 23 Jan 2025) EndedAt: 2025-01-23 21:06:01 -0500 (Thu, 23 Jan 2025) EllapsedTime: 5.7 seconds RetCode: 0 Status: OK PackageFile: dStruct_1.13.0.tgz PackageFileSize: 596.6 KiB