Package: cytoviewer Version: 1.7.0 Command: /home/biocbuild/R/R/bin/R CMD INSTALL cytoviewer StartedAt: 2025-01-29 20:15:05 -0000 (Wed, 29 Jan 2025) EndedAt: 2025-01-29 20:15:07 -0000 (Wed, 29 Jan 2025) EllapsedTime: 1.7 seconds RetCode: 1 Status: ERROR