Package: cytoviewer Version: 1.9.0 Command: /Library/Frameworks/R.framework/Resources/bin/R CMD check --install=check:cytoviewer.install-out.txt --library=/Library/Frameworks/R.framework/Resources/library --no-vignettes --timings cytoviewer_1.9.0.tar.gz StartedAt: 2025-05-09 19:02:50 -0400 (Fri, 09 May 2025) EndedAt: 2025-05-09 19:05:21 -0400 (Fri, 09 May 2025) EllapsedTime: 150.7 seconds RetCode: 0 Status: OK CheckDir: cytoviewer.Rcheck Warnings: 0